BEGIN:VCALENDAR
VERSION:2.0
PRODID:-//Moon Prep - ECPv6.15.20//NONSGML v1.0//EN
CALSCALE:GREGORIAN
METHOD:PUBLISH
X-ORIGINAL-URL:https://moonprep.com
X-WR-CALDESC:Events for Moon Prep
REFRESH-INTERVAL;VALUE=DURATION:PT1H
X-Robots-Tag:noindex
X-PUBLISHED-TTL:PT1H
BEGIN:VTIMEZONE
TZID:America/New_York
BEGIN:DAYLIGHT
TZOFFSETFROM:-0500
TZOFFSETTO:-0400
TZNAME:EDT
DTSTART:20200308T070000
END:DAYLIGHT
BEGIN:STANDARD
TZOFFSETFROM:-0400
TZOFFSETTO:-0500
TZNAME:EST
DTSTART:20201101T060000
END:STANDARD
BEGIN:DAYLIGHT
TZOFFSETFROM:-0500
TZOFFSETTO:-0400
TZNAME:EDT
DTSTART:20210314T070000
END:DAYLIGHT
BEGIN:STANDARD
TZOFFSETFROM:-0400
TZOFFSETTO:-0500
TZNAME:EST
DTSTART:20211107T060000
END:STANDARD
BEGIN:DAYLIGHT
TZOFFSETFROM:-0500
TZOFFSETTO:-0400
TZNAME:EDT
DTSTART:20220313T070000
END:DAYLIGHT
BEGIN:STANDARD
TZOFFSETFROM:-0400
TZOFFSETTO:-0500
TZNAME:EST
DTSTART:20221106T060000
END:STANDARD
END:VTIMEZONE
BEGIN:VEVENT
DTSTART;TZID=America/New_York:20210524T200000
DTEND;TZID=America/New_York:20210524T210000
DTSTAMP:20260422T191227
CREATED:20210421T205339Z
LAST-MODIFIED:20210426T200352Z
UID:10000159-1621886400-1621890000@moonprep.com
SUMMARY:Webinar: Covid’s Impact On College Admissions-Big Changes You Need To Know
DESCRIPTION:In the best of times\, applying to colleges and universities is stressful. Getting high grades\, good SAT or ACT scores\, taking multiple AP exams\, asking for letters of recommendation\, and participating in extracurricular activities take months or years of preparation.  \nBut for students who are planning on applying to college\, this process has been more stressful due to the Covid-19 pandemic. Schools going remote\, SAT and ACT tests canceled\, extracurricular activities postponed\, and many other changes have occurred in the past year.  \nIn addition to the changes brought about by the pandemic\, there have been other changes to the process\, including SAT Subject tests and SAT essay cancellations\, test-optional policies\, and more.  \nIn this webinar\, Moon Prep will cover everything you need to know about the changing college admissions scene. Participants will be able to ask their questions about college admissions and get advice from an experienced college admissions counselor. \nSign up here. 
URL:https://moonprep.com/event/webinar-covids-impact-on-college-admissions-big-changes-you-need-to-know/
LOCATION:Virtual Webinar: YouTube
CATEGORIES:Webinar
ATTACH;FMTTYPE=image/png:https://moonprep.com/wp-content/uploads/2021/04/Webinar-Images-1.png
ORGANIZER;CN="Moon Prep":MAILTO:hello@moonprep.com
END:VEVENT
END:VCALENDAR