BEGIN:VCALENDAR
VERSION:2.0
PRODID:-//Moon Prep - ECPv6.15.20//NONSGML v1.0//EN
CALSCALE:GREGORIAN
METHOD:PUBLISH
X-WR-CALNAME:Moon Prep
X-ORIGINAL-URL:https://moonprep.com
X-WR-CALDESC:Events for Moon Prep
REFRESH-INTERVAL;VALUE=DURATION:PT1H
X-Robots-Tag:noindex
X-PUBLISHED-TTL:PT1H
BEGIN:VTIMEZONE
TZID:America/New_York
BEGIN:DAYLIGHT
TZOFFSETFROM:-0500
TZOFFSETTO:-0400
TZNAME:EDT
DTSTART:20210314T070000
END:DAYLIGHT
BEGIN:STANDARD
TZOFFSETFROM:-0400
TZOFFSETTO:-0500
TZNAME:EST
DTSTART:20211107T060000
END:STANDARD
BEGIN:DAYLIGHT
TZOFFSETFROM:-0500
TZOFFSETTO:-0400
TZNAME:EDT
DTSTART:20220313T070000
END:DAYLIGHT
BEGIN:STANDARD
TZOFFSETFROM:-0400
TZOFFSETTO:-0500
TZNAME:EST
DTSTART:20221106T060000
END:STANDARD
BEGIN:DAYLIGHT
TZOFFSETFROM:-0500
TZOFFSETTO:-0400
TZNAME:EDT
DTSTART:20230312T070000
END:DAYLIGHT
BEGIN:STANDARD
TZOFFSETFROM:-0400
TZOFFSETTO:-0500
TZNAME:EST
DTSTART:20231105T060000
END:STANDARD
END:VTIMEZONE
BEGIN:VEVENT
DTSTART;TZID=America/New_York:20220512T200000
DTEND;TZID=America/New_York:20220512T210000
DTSTAMP:20260421T002109
CREATED:20220420T185851Z
LAST-MODIFIED:20220916T143813Z
UID:10000188-1652385600-1652389200@moonprep.com
SUMMARY:Get a Head Start on BS/MD Applications - Summer Planning
DESCRIPTION:Join Moon Prep’s experienced medical school admission counselors\, as they review what you should be doing in the upcoming months to prepare for your medical school application. \n  \nWe will be discussing: \n– The various application platforms \n– Timeline for applying to BS/MD Programs \n– BS/MD specific questions \n– Tips to strengthen your resume \n– And more \n  \nParticipants will be able to ask any questions and have an experienced counselor provide expert guidance. \n  \nSign up here.
URL:https://moonprep.com/event/get-a-head-start-on-bs-md-applications-summer-planning/
LOCATION:Virtual Webinar: Zoom
CATEGORIES:Webinar
ATTACH;FMTTYPE=image/png:https://moonprep.com/wp-content/uploads/2022/04/1.png
ORGANIZER;CN="Moon Prep":MAILTO:hello@moonprep.com
END:VEVENT
BEGIN:VEVENT
DTSTART;TZID=America/New_York:20220526T200000
DTEND;TZID=America/New_York:20220526T210000
DTSTAMP:20260421T002109
CREATED:20220420T190229Z
LAST-MODIFIED:20220916T143501Z
UID:10000189-1653595200-1653598800@moonprep.com
SUMMARY:How To Get Published in a Scientific Journal While Still in High School
DESCRIPTION:Getting recognized for your scientific research while still in high school might seem like an impossible task. \n  \nMoon Prep Counselors will cover how students can build their scientific resume and impress college admissions counselors by completing research\, writing a research paper\, and getting it published in a scientific journal… all while still in high school! \n  \nParticipants will be able to ask any questions and have an experienced counselor provide expert guidance. \n  \nEven if you can’t make the webinar date\, a recording will be sent out to everyone who registered. \n  \nSign up here.
URL:https://moonprep.com/event/how-to-get-published-in-a-scientific-journal-while-still-in-high-school-2/
LOCATION:Virtual Webinar: Zoom
CATEGORIES:Webinar
ATTACH;FMTTYPE=image/png:https://moonprep.com/wp-content/uploads/2022/04/2.png
ORGANIZER;CN="Moon Prep":MAILTO:hello@moonprep.com
END:VEVENT
END:VCALENDAR