BEGIN:VCALENDAR
VERSION:2.0
PRODID:-//Moon Prep - ECPv6.15.20//NONSGML v1.0//EN
CALSCALE:GREGORIAN
METHOD:PUBLISH
X-ORIGINAL-URL:https://moonprep.com
X-WR-CALDESC:Events for Moon Prep
REFRESH-INTERVAL;VALUE=DURATION:PT1H
X-Robots-Tag:noindex
X-PUBLISHED-TTL:PT1H
BEGIN:VTIMEZONE
TZID:America/New_York
BEGIN:DAYLIGHT
TZOFFSETFROM:-0500
TZOFFSETTO:-0400
TZNAME:EDT
DTSTART:20210314T070000
END:DAYLIGHT
BEGIN:STANDARD
TZOFFSETFROM:-0400
TZOFFSETTO:-0500
TZNAME:EST
DTSTART:20211107T060000
END:STANDARD
BEGIN:DAYLIGHT
TZOFFSETFROM:-0500
TZOFFSETTO:-0400
TZNAME:EDT
DTSTART:20220313T070000
END:DAYLIGHT
BEGIN:STANDARD
TZOFFSETFROM:-0400
TZOFFSETTO:-0500
TZNAME:EST
DTSTART:20221106T060000
END:STANDARD
BEGIN:DAYLIGHT
TZOFFSETFROM:-0500
TZOFFSETTO:-0400
TZNAME:EDT
DTSTART:20230312T070000
END:DAYLIGHT
BEGIN:STANDARD
TZOFFSETFROM:-0400
TZOFFSETTO:-0500
TZNAME:EST
DTSTART:20231105T060000
END:STANDARD
END:VTIMEZONE
BEGIN:VEVENT
DTSTART;TZID=America/New_York:20220407T200000
DTEND;TZID=America/New_York:20220407T210000
DTSTAMP:20260421T022513
CREATED:20211128T181337Z
LAST-MODIFIED:20220916T143532Z
UID:10000183-1649361600-1649365200@moonprep.com
SUMMARY:Summer Planning - Research Ideas For High School Students
DESCRIPTION:Summer might seem far away\, but now is the perfect time to start planning for it. \nMoon Prep Counselors will cover how students can spend their summer productively by building their resumes through virtual activities. \nThe webinar will cover how to: \n– Complete an independent research project \n– Become a published author \n– Attend virtual summer camps \n– Participate in virtual and in-person community service \n– And more \nParticipants will be able to ask any questions and have an experienced counselor provide expert guidance. \n  \nSign up here.
URL:https://moonprep.com/event/summer-planning-research-ideas-for-high-school-students-2/
LOCATION:Virtual Webinar: YouTube
CATEGORIES:Webinar
ATTACH;FMTTYPE=image/png:https://moonprep.com/wp-content/uploads/2021/11/Webinars-2022-Facebook-Cover-5.png
ORGANIZER;CN="Moon Prep":MAILTO:hello@moonprep.com
END:VEVENT
BEGIN:VEVENT
DTSTART;TZID=America/New_York:20220421T200000
DTEND;TZID=America/New_York:20220421T210000
DTSTAMP:20260421T022513
CREATED:20211128T181831Z
LAST-MODIFIED:20220916T143517Z
UID:10000184-1650571200-1650574800@moonprep.com
SUMMARY:Ask Me Anything - Understanding The College Admissions Process
DESCRIPTION:Moon Prep will be hosting a live Q&A session to answer many of the questions you have about the college application process. \nWe will be covering everything including: \n– How to balance your college list \n– Does early decision really help \n– How to pick the right topic for your personal statement \nWe will also cover how the college admission landscape is changing and the effects of the Covid-19 pandemic. \nMost of the webinar will be dedicated to answering questions from our participants. Come prepared with your questions or email them to use beforehand! You’ll get to ask an experienced counselor who can provide expert guidance. \n  \nSign up here.
URL:https://moonprep.com/event/ask-me-anything-understanding-the-college-admissions-process/
LOCATION:Virtual Webinar: YouTube
CATEGORIES:Webinar
ATTACH;FMTTYPE=image/png:https://moonprep.com/wp-content/uploads/2021/11/Webinars-2022-Facebook-Cover-6.png
ORGANIZER;CN="Moon Prep":MAILTO:hello@moonprep.com
END:VEVENT
END:VCALENDAR