BEGIN:VCALENDAR
VERSION:2.0
PRODID:-//Moon Prep - ECPv6.15.20//NONSGML v1.0//EN
CALSCALE:GREGORIAN
METHOD:PUBLISH
X-WR-CALNAME:Moon Prep
X-ORIGINAL-URL:https://moonprep.com
X-WR-CALDESC:Events for Moon Prep
REFRESH-INTERVAL;VALUE=DURATION:PT1H
X-Robots-Tag:noindex
X-PUBLISHED-TTL:PT1H
BEGIN:VTIMEZONE
TZID:America/New_York
BEGIN:DAYLIGHT
TZOFFSETFROM:-0500
TZOFFSETTO:-0400
TZNAME:EDT
DTSTART:20210314T070000
END:DAYLIGHT
BEGIN:STANDARD
TZOFFSETFROM:-0400
TZOFFSETTO:-0500
TZNAME:EST
DTSTART:20211107T060000
END:STANDARD
BEGIN:DAYLIGHT
TZOFFSETFROM:-0500
TZOFFSETTO:-0400
TZNAME:EDT
DTSTART:20220313T070000
END:DAYLIGHT
BEGIN:STANDARD
TZOFFSETFROM:-0400
TZOFFSETTO:-0500
TZNAME:EST
DTSTART:20221106T060000
END:STANDARD
BEGIN:DAYLIGHT
TZOFFSETFROM:-0500
TZOFFSETTO:-0400
TZNAME:EDT
DTSTART:20230312T070000
END:DAYLIGHT
BEGIN:STANDARD
TZOFFSETFROM:-0400
TZOFFSETTO:-0500
TZNAME:EST
DTSTART:20231105T060000
END:STANDARD
END:VTIMEZONE
BEGIN:VEVENT
DTSTART;TZID=America/New_York:20220310T200000
DTEND;TZID=America/New_York:20220310T210000
DTSTAMP:20260421T042008
CREATED:20211128T175231Z
LAST-MODIFIED:20220207T204931Z
UID:10000181-1646942400-1646946000@moonprep.com
SUMMARY:Scholarships and Reviewing Your Financial Aid Letter
DESCRIPTION:With the cost of many top universities exceeding $75K per year\, paying for college without being buried in student loan debt\, is on the top of many families’ minds. \nMoon Prep’s scholarship experts and will guide families\, including high-income students\, through the whole process. They will be covering everything from how to find scholarships\, which scholarships pay the most\, and how to graduate from college with minimal debt. \nParticipants will be able to ask any questions and have an experienced counselor provide expert guidance. \nEven if you can’t make the webinar date\, a recording will be sent out to everyone who registered. \nSign up here.
URL:https://moonprep.com/event/scholarships-and-reviewing-your-financial-aid-letter/
LOCATION:Virtual Webinar: YouTube
CATEGORIES:Webinar
ATTACH;FMTTYPE=image/png:https://moonprep.com/wp-content/uploads/2021/11/Webinars-2022-Facebook-Cover-3.png
ORGANIZER;CN="Moon Prep":MAILTO:hello@moonprep.com
END:VEVENT
BEGIN:VEVENT
DTSTART;TZID=America/New_York:20220316T200000
DTEND;TZID=America/New_York:20220316T210000
DTSTAMP:20260421T042008
CREATED:20220314T152258Z
LAST-MODIFIED:20220314T152258Z
UID:10000187-1647460800-1647464400@moonprep.com
SUMMARY:Beat The Odds—Insider Tips For Applying to Medical School
DESCRIPTION:Join Moon Prep’s experienced medical school admission counselors\, as they review what you should be doing in the upcoming months to prepare for your medical school application. \nDuring this hour-long webinar\, we will be talking about: \n– The various application platforms \n– Timeline for applying to both allopathic and osteopathic medical schools \n– How to prepare for applying to medical schools \n– Tips to strengthen your resume \nAt the end of the webinar\, we will reserve time for Q&A. Ask your questions at the event or email them to lindsey@moonprep.com \nSign up here. 
URL:https://moonprep.com/event/beat-the-odds-insider-tips-for-applying-to-medical-school-2/
LOCATION:Virtual Webinar: YouTube
CATEGORIES:Webinar
ATTACH;FMTTYPE=image/png:https://moonprep.com/wp-content/uploads/2022/03/Screen-Shot-2022-03-14-at-11.19.26-AM.png
ORGANIZER;CN="Moon Prep":MAILTO:hello@moonprep.com
END:VEVENT
BEGIN:VEVENT
DTSTART;TZID=America/New_York:20220324T200000
DTEND;TZID=America/New_York:20220324T210000
DTSTAMP:20260421T042008
CREATED:20211128T180949Z
LAST-MODIFIED:20220916T143546Z
UID:10000182-1648152000-1648155600@moonprep.com
SUMMARY:Understanding The College Admissions Process
DESCRIPTION:Although life seems like it won’t get back to normal anytime soon\, you should still have a plan for your college admissions. \nMoon Prep Counselors will cover a checklist for high school students\, including: \n– How to build your resume safely during a pandemic \n– Creating a college list \n– Understanding the different ways of applying to colleges \n– Applying for scholarships \n– How Covid-19 has affected college admissions \n  \nParticipants will be able to ask any questions and have an experienced counselor provide expert guidance. \nSign up here.
URL:https://moonprep.com/event/understanding-the-college-admissions-process/
LOCATION:Virtual Webinar: YouTube
CATEGORIES:Webinar
ATTACH;FMTTYPE=image/png:https://moonprep.com/wp-content/uploads/2021/11/Webinars-2022-Facebook-Cover-4.png
ORGANIZER;CN="Moon Prep":MAILTO:hello@moonprep.com
END:VEVENT
END:VCALENDAR