BEGIN:VCALENDAR
VERSION:2.0
PRODID:-//Moon Prep - ECPv6.15.20//NONSGML v1.0//EN
CALSCALE:GREGORIAN
METHOD:PUBLISH
X-WR-CALNAME:Moon Prep
X-ORIGINAL-URL:https://moonprep.com
X-WR-CALDESC:Events for Moon Prep
REFRESH-INTERVAL;VALUE=DURATION:PT1H
X-Robots-Tag:noindex
X-PUBLISHED-TTL:PT1H
BEGIN:VTIMEZONE
TZID:America/New_York
BEGIN:DAYLIGHT
TZOFFSETFROM:-0500
TZOFFSETTO:-0400
TZNAME:EDT
DTSTART:20210314T070000
END:DAYLIGHT
BEGIN:STANDARD
TZOFFSETFROM:-0400
TZOFFSETTO:-0500
TZNAME:EST
DTSTART:20211107T060000
END:STANDARD
BEGIN:DAYLIGHT
TZOFFSETFROM:-0500
TZOFFSETTO:-0400
TZNAME:EDT
DTSTART:20220313T070000
END:DAYLIGHT
BEGIN:STANDARD
TZOFFSETFROM:-0400
TZOFFSETTO:-0500
TZNAME:EST
DTSTART:20221106T060000
END:STANDARD
BEGIN:DAYLIGHT
TZOFFSETFROM:-0500
TZOFFSETTO:-0400
TZNAME:EDT
DTSTART:20230312T070000
END:DAYLIGHT
BEGIN:STANDARD
TZOFFSETFROM:-0400
TZOFFSETTO:-0500
TZNAME:EST
DTSTART:20231105T060000
END:STANDARD
END:VTIMEZONE
BEGIN:VEVENT
DTSTART;TZID=America/New_York:20220203T200000
DTEND;TZID=America/New_York:20220203T210000
DTSTAMP:20260421T055000
CREATED:20211128T174158Z
LAST-MODIFIED:20220204T162429Z
UID:10000179-1643918400-1643922000@moonprep.com
SUMMARY:Summer Planning - Research Ideas For High School Students
DESCRIPTION:Summer might seem far away\, but now is the perfect time to start planning for it. \nMoon Prep Counselors will cover how students can spend their summer productively by building their resumes through virtual activities. \nThe webinar will cover how to: \n– Complete an independent research project \n– Become a published author \n– Attend virtual summer camps \n– Participate in virtual and in-person community service \n– And more \nParticipants will be able to ask any questions and have an experienced counselor provide expert guidance. \n  \nSign up here.
URL:https://moonprep.com/event/summer-planning-research-ideas-for-high-school-students/
LOCATION:Virtual Webinar: YouTube
CATEGORIES:Webinar
ATTACH;FMTTYPE=image/png:https://moonprep.com/wp-content/uploads/2021/11/Webinars-2022-Facebook-Cover-1.png
ORGANIZER;CN="Moon Prep":MAILTO:hello@moonprep.com
END:VEVENT
BEGIN:VEVENT
DTSTART;TZID=America/New_York:20220217T200000
DTEND;TZID=America/New_York:20220217T210000
DTSTAMP:20260421T055000
CREATED:20211128T174539Z
LAST-MODIFIED:20220204T162510Z
UID:10000180-1645128000-1645131600@moonprep.com
SUMMARY:Beat The Odds—Insider Tips For Applying to Medical School
DESCRIPTION:Join Moon Prep’s experienced medical school admission counselors\, as they review what you should be doing in the upcoming months to prepare for your medical school application. \nDuring this hour-long webinar\, we will be talking about: \n– The various application platforms \n– Timeline for applying to both allopathic and osteopathic medical schools \n– How to prepare for applying to medical schools \n– Tips to strengthen your resume \n– The impact of the coronavirus on the med school process \nAt the end of the webinar\, we will reserve time for Q&A. Ask your questions at the event or email them to lindsey@moonprep.com \nSign up here.
URL:https://moonprep.com/event/beat-the-odds-insider-tips-for-applying-to-medical-school/
LOCATION:Virtual Webinar: YouTube
CATEGORIES:Webinar
ATTACH;FMTTYPE=image/png:https://moonprep.com/wp-content/uploads/2021/11/Webinars-2022-Facebook-Cover-2.png
ORGANIZER;CN="Moon Prep":MAILTO:hello@moonprep.com
END:VEVENT
END:VCALENDAR