BEGIN:VCALENDAR
VERSION:2.0
PRODID:-//Moon Prep - ECPv6.15.20//NONSGML v1.0//EN
CALSCALE:GREGORIAN
METHOD:PUBLISH
X-WR-CALNAME:Moon Prep
X-ORIGINAL-URL:https://moonprep.com
X-WR-CALDESC:Events for Moon Prep
REFRESH-INTERVAL;VALUE=DURATION:PT1H
X-Robots-Tag:noindex
X-PUBLISHED-TTL:PT1H
BEGIN:VTIMEZONE
TZID:America/New_York
BEGIN:DAYLIGHT
TZOFFSETFROM:-0500
TZOFFSETTO:-0400
TZNAME:EDT
DTSTART:20200308T070000
END:DAYLIGHT
BEGIN:STANDARD
TZOFFSETFROM:-0400
TZOFFSETTO:-0500
TZNAME:EST
DTSTART:20201101T060000
END:STANDARD
BEGIN:DAYLIGHT
TZOFFSETFROM:-0500
TZOFFSETTO:-0400
TZNAME:EDT
DTSTART:20210314T070000
END:DAYLIGHT
BEGIN:STANDARD
TZOFFSETFROM:-0400
TZOFFSETTO:-0500
TZNAME:EST
DTSTART:20211107T060000
END:STANDARD
BEGIN:DAYLIGHT
TZOFFSETFROM:-0500
TZOFFSETTO:-0400
TZNAME:EDT
DTSTART:20220313T070000
END:DAYLIGHT
BEGIN:STANDARD
TZOFFSETFROM:-0400
TZOFFSETTO:-0500
TZNAME:EST
DTSTART:20221106T060000
END:STANDARD
END:VTIMEZONE
BEGIN:VEVENT
DTSTART;TZID=America/New_York:20210909T200000
DTEND;TZID=America/New_York:20210909T210000
DTSTAMP:20260421T140556
CREATED:20210821T125516Z
LAST-MODIFIED:20220916T143619Z
UID:10000171-1631217600-1631221200@moonprep.com
SUMMARY:How To Write A Winning Personal Statement for College
DESCRIPTION:What can you offer the colleges\, besides the numbers? This is where your essay comes in. It turns you into a three-dimensional person and helps you stand out from a crowded field of applicants. \nWriting the personal statement—and even just brainstorming a topic—can be a struggle for high school students. That is why Moon Prep put together the collective knowledge of the team to create a webinar to help you with this tricky topic. \nIn this webinar\, Moon Prep counselors Nicole and Michaela will go over everything you need to know about writing the personal statement\, including: \n\nBrainstorming a topic\nWhat topics to avoid\nHow to strengthen your writing\nAnd everything you need to know about the Common App!\n\nParticipants will be able to ask their questions about college admissions and get advice from an experienced college admissions counselor. \nSign Up Here!
URL:https://moonprep.com/event/how-to-write-a-winning-personal-statement-for-college-2/
LOCATION:Virtual Webinar: YouTube
CATEGORIES:Webinar
ORGANIZER;CN="Moon Prep":MAILTO:hello@moonprep.com
END:VEVENT
BEGIN:VEVENT
DTSTART;TZID=America/New_York:20210923T200000
DTEND;TZID=America/New_York:20210923T210000
DTSTAMP:20260421T140556
CREATED:20210821T125721Z
LAST-MODIFIED:20220916T143605Z
UID:10000172-1632427200-1632430800@moonprep.com
SUMMARY:Getting Accepted To Medical School From H.S. - Top Tips For BS/MD Admission
DESCRIPTION:Applying to BS/MD Programs – What You Need To Know \nDirect medical programs—also known as BS/MD\, BA/MD\, BS/DO\, or BA/DO—are some of the most competitive programs in the college admission process\, with some programs only accepting 6 applicants a year. Students accepted into a BS/MD program can finish their undergraduate studies and go directly into medical school thanks to a partnership between the two institutions. \nFor high school students who already know that they are 100% committed to becoming a doctor\, a direct medical program might be the right choice. Students can get accepted into a medical school at the same time as undergraduate programs\, giving them a distinct advantage over their peers. \nIn this webinar\, we will cover everything you need to know about BS/MD programs\, including: \n* Advantages and disadvantages of applying to the program \n* When to start preparing \n* Building your academic profile \n* Extracurricular activities \nAsk questions and get advice from an experienced college counselor at MoonPrep.com. \nThe first college application deadlines are right around the corner! Understanding the different ways of applying early to colleges is essential to giving yourself a competitive edge in the college admissions game. \nSign Up Here!
URL:https://moonprep.com/event/getting-accepted-to-medical-school-from-h-s-top-tips-for-bs-md-admission/
LOCATION:Virtual Webinar: YouTube
CATEGORIES:Webinar
ORGANIZER;CN="Moon Prep":MAILTO:hello@moonprep.com
END:VEVENT
END:VCALENDAR