BEGIN:VCALENDAR
VERSION:2.0
PRODID:-//Moon Prep - ECPv6.15.20//NONSGML v1.0//EN
CALSCALE:GREGORIAN
METHOD:PUBLISH
X-ORIGINAL-URL:https://moonprep.com
X-WR-CALDESC:Events for Moon Prep
REFRESH-INTERVAL;VALUE=DURATION:PT1H
X-Robots-Tag:noindex
X-PUBLISHED-TTL:PT1H
BEGIN:VTIMEZONE
TZID:America/New_York
BEGIN:DAYLIGHT
TZOFFSETFROM:-0500
TZOFFSETTO:-0400
TZNAME:EDT
DTSTART:20200308T070000
END:DAYLIGHT
BEGIN:STANDARD
TZOFFSETFROM:-0400
TZOFFSETTO:-0500
TZNAME:EST
DTSTART:20201101T060000
END:STANDARD
BEGIN:DAYLIGHT
TZOFFSETFROM:-0500
TZOFFSETTO:-0400
TZNAME:EDT
DTSTART:20210314T070000
END:DAYLIGHT
BEGIN:STANDARD
TZOFFSETFROM:-0400
TZOFFSETTO:-0500
TZNAME:EST
DTSTART:20211107T060000
END:STANDARD
BEGIN:DAYLIGHT
TZOFFSETFROM:-0500
TZOFFSETTO:-0400
TZNAME:EDT
DTSTART:20220313T070000
END:DAYLIGHT
BEGIN:STANDARD
TZOFFSETFROM:-0400
TZOFFSETTO:-0500
TZNAME:EST
DTSTART:20221106T060000
END:STANDARD
END:VTIMEZONE
BEGIN:VEVENT
DTSTART;TZID=America/New_York:20210713T200000
DTEND;TZID=America/New_York:20210713T210000
DTSTAMP:20260421T174223
CREATED:20210426T193301Z
LAST-MODIFIED:20210426T200145Z
UID:10000166-1626206400-1626210000@moonprep.com
SUMMARY:How To Write A Winning Personal Statement for College
DESCRIPTION:What can you offer the colleges\, besides the numbers? This is where your essay comes in. It turns you into a three-dimensional person and helps you stand out from a crowded field of applicants. \nWriting the personal statement—and even just brainstorming a topic—can be a struggle for high school students. That is why Moon Prep put together the collective knowledge of the team to create a webinar to help you with this tricky topic.  \nIn this webinar\, Moon Prep counselors Lindsey and Michaela will go over everything you need to know about writing the personal statement\, including:  \n\nBrainstorming a topic\nWhat topics to avoid\nHow to strengthen your writing \nAnd everything you need to know about the Common App!\n\nParticipants will be able to ask their questions about college admissions and get advice from an experienced college admissions counselor.  \nSign up here.  \nABOUT MOON PREP \nMoon Prep is comprised of a team of experienced college counselors that guide students through the entire application process\, providing one-on-one customized attention. Our focus is to help students create an application that sets them apart from the pack\, conveys what they have to offer the college\, and why they are a great fit. Moon Prep works with students around the globe and partners with them to make their dream college a reality.
URL:https://moonprep.com/event/how-to-write-a-winning-personal-statement-for-college/
LOCATION:Virtual Webinar: YouTube
CATEGORIES:Webinar
ATTACH;FMTTYPE=image/png:https://moonprep.com/wp-content/uploads/2021/04/Webinar-Images-5.png
ORGANIZER;CN="Moon Prep":MAILTO:hello@moonprep.com
END:VEVENT
BEGIN:VEVENT
DTSTART;TZID=America/New_York:20210719T200000
DTEND;TZID=America/New_York:20210719T210000
DTSTAMP:20260421T174223
CREATED:20210426T183459Z
LAST-MODIFIED:20210623T173636Z
UID:10000163-1626724800-1626728400@moonprep.com
SUMMARY:9-Day Crash Course: The Search For Scholarships
DESCRIPTION:Moon Prep counselor Michaela S\, an experienced college counselor\, will be hosting a 9-Day Crash Course to answer many of the questions you have about how to apply for scholarships during the college application process. \nWith the cost of many top universities exceeding $75K per year\, paying for college without being buried in student loan debt\, is on the top of many families’ minds. \nMichaela is Moon Prep’s scholarship expert and will guide students through the whole process. She will be covering everything from how to find scholarships\, which scholarships pay the most\, and how to graduate from college with minimal debt. \nSign up here \nHow The Course Works \nThis is not a live class. You’ll get a link to the video course. Each day you’ll receive a link to the next day’s video module.  \nThis video course shows you techniques you need to find money to pay your tuition bills. In the video modules\, we will walk you through the entire scholarship process\, including searching for scholarships\, spotting scams\, writing the essay\, and filling out the FAFSA. \nWith a selection of video modules\, examples of how to answer scholarship essays\, timelines\, and many advanced strategies and tips\, our course is one of the most comprehensive available to help you successfully find and win scholarships. \nSign up here \nCourse Modules: \nDay 1: The Basics To Understanding Financial Aid \n\nWhy universities do (or don’t) offer scholarships \nThe pricing equation that universities use to determine aid \nHow much universities actually cost\n\nDay 2: Private Scholarships vs. Other Types Of Scholarships \n\nMerit/academic scholarships and the stipulations\nDepartmental scholarships or other institutional scholarships\nAthletic scholarships\nTransfer scholarships\nPrivate scholarships\n\nDay 3: Organizing The Scholarship List \n\nOrganize your list of colleges and essays\nCreating a scholarship spreadsheet\nHow to spot scam scholarships\n\nDay 4: How To Find Private Scholarships \n\n5+ sites to check to find scholarships\nTips for finding real scholarships\nWhat are competition scholarships\n\nDay 5: Tips For Finding Scholarships \n\nMore tips for spotting scams\nHow much time you should spend \nHow to keep organized throughout the process\n\nDay 6: Timeline For Applying For Scholarships \n\nWhen to start applying to scholarships\nBeing proactive \nTips for your junior and senior years\n\nDay 7: Writing The Scholarship Essay \n\nLooking at the audience of the scholarship committee\nTips for writing a vibrant essay\nThe grocery store analogy\nCommon scholarship essay topics and how to answer them\n\nDay 8: What To Do After Winning A Scholarship \n\nSteps to take after winning a scholarship\nMinimum qualifications scholarships might have\nCommunication tips \n\nDay 9: Tips For Filling Out The FAFSA And CSS Profiles \n\nWhat you need to know about the FAFSA\nCSS vs. FAFSA: What’s the difference?\nCSS and FAFSA tips\n\n  \nSign up here
URL:https://moonprep.com/event/9-day-crash-course-the-search-for-scholarships-2021-07-19/
LOCATION:Virtual Class
CATEGORIES:Crash Course
ATTACH;FMTTYPE=image/png:https://moonprep.com/wp-content/uploads/2021/04/Screen-Shot-2021-04-26-at-2.34.04-PM.png
ORGANIZER;CN="Moon Prep":MAILTO:hello@moonprep.com
END:VEVENT
BEGIN:VEVENT
DTSTART;TZID=America/New_York:20210729T200000
DTEND;TZID=America/New_York:20210729T210000
DTSTAMP:20260421T174223
CREATED:20210426T193549Z
LAST-MODIFIED:20210426T200039Z
UID:10000167-1627588800-1627592400@moonprep.com
SUMMARY:How To ‘Wow’ College Admissions Staff With Your Extracurriculars
DESCRIPTION:With the news of SAT subject tests being canceled and a new Common App essay prompt recently released\, it’s more important than ever to plan the rest of high school mindfully by choosing the right AP classes and building the most competitive resume that highlights their strengths and passions.  \nMoon Prep Counselors Lindsey and Michaela will cover how students can spend their year productively by building their resumes through activities.  \nThe webinar will cover how to: \n\nComplete an independent research project\nBecome a published author\nAttend virtual camps\nComplete community service\n And more!\n\nParticipants will be able to ask any questions and have an experienced counselor provide expert guidance. \nEven if you can’t make the webinar date\, a recording will be sent out to everyone who registered. \nSign up here \nABOUT MOON PREP \nMoon Prep is comprised of a team of experienced college counselors that guide students through the entire application process\, providing one-on-one customized attention. Our focus is to help students create an application that sets them apart from the pack\, conveys what they have to offer the college\, and why they are a great fit. Moon Prep works with students around the globe and partners with them to make their dream college a reality. \n 
URL:https://moonprep.com/event/how-to-wow-college-admissions-staff-with-your-extracurriculars/
LOCATION:Virtual Webinar: YouTube
CATEGORIES:Webinar
ATTACH;FMTTYPE=image/png:https://moonprep.com/wp-content/uploads/2021/04/Webinar-Images-1-1.png
ORGANIZER;CN="Moon Prep":MAILTO:hello@moonprep.com
END:VEVENT
END:VCALENDAR