BEGIN:VCALENDAR
VERSION:2.0
PRODID:-//Moon Prep - ECPv6.15.20//NONSGML v1.0//EN
CALSCALE:GREGORIAN
METHOD:PUBLISH
X-WR-CALNAME:Moon Prep
X-ORIGINAL-URL:https://moonprep.com
X-WR-CALDESC:Events for Moon Prep
REFRESH-INTERVAL;VALUE=DURATION:PT1H
X-Robots-Tag:noindex
X-PUBLISHED-TTL:PT1H
BEGIN:VTIMEZONE
TZID:America/New_York
BEGIN:DAYLIGHT
TZOFFSETFROM:-0500
TZOFFSETTO:-0400
TZNAME:EDT
DTSTART:20240310T070000
END:DAYLIGHT
BEGIN:STANDARD
TZOFFSETFROM:-0400
TZOFFSETTO:-0500
TZNAME:EST
DTSTART:20241103T060000
END:STANDARD
BEGIN:DAYLIGHT
TZOFFSETFROM:-0500
TZOFFSETTO:-0400
TZNAME:EDT
DTSTART:20250309T070000
END:DAYLIGHT
BEGIN:STANDARD
TZOFFSETFROM:-0400
TZOFFSETTO:-0500
TZNAME:EST
DTSTART:20251102T060000
END:STANDARD
BEGIN:DAYLIGHT
TZOFFSETFROM:-0500
TZOFFSETTO:-0400
TZNAME:EDT
DTSTART:20260308T070000
END:DAYLIGHT
BEGIN:STANDARD
TZOFFSETFROM:-0400
TZOFFSETTO:-0500
TZNAME:EST
DTSTART:20261101T060000
END:STANDARD
END:VTIMEZONE
BEGIN:VEVENT
DTSTART;VALUE=DATE:20250129
DTEND;VALUE=DATE:20250227
DTSTAMP:20260419T211836
CREATED:20240806T002335Z
LAST-MODIFIED:20240813T074715Z
UID:10000322-1738108800-1740614399@moonprep.com
SUMMARY:Project iQ Camp
DESCRIPTION:Student profile: 8th through 11th grade\, parents encouraged to attend \nSchedule: 5 weeks long – meeting 1x a week\, 60-75 mins each session\, held virtually via Zoom  \nDates: Every Wednesday (1/29/2025 – 2/26/2025)\, 7:00 – 8:15 ET/4:00-5:15 PT \nTopics covered: \n\nThe elements of a truly notable student profile\nHow to get started and keep up the momentum \nA deep dive each week into real examples from successful Moon Prep students\nMeet members of the Moon Prep mentorship team and learn about their specializations \nThe week-by-week schedule can be found here.\n\n\nInvestment: Free (live sessions) for registered Moon Prep families. \nLearn More
URL:https://moonprep.com/event/project-iq-camp/
LOCATION:Virtual Webinar: Zoom
CATEGORIES:Crash Course
ORGANIZER;CN="Moon Prep":MAILTO:hello@moonprep.com
END:VEVENT
END:VCALENDAR