BEGIN:VCALENDAR
VERSION:2.0
PRODID:-//Moon Prep - ECPv6.15.20//NONSGML v1.0//EN
CALSCALE:GREGORIAN
METHOD:PUBLISH
X-WR-CALNAME:Moon Prep
X-ORIGINAL-URL:https://moonprep.com
X-WR-CALDESC:Events for Moon Prep
REFRESH-INTERVAL;VALUE=DURATION:PT1H
X-Robots-Tag:noindex
X-PUBLISHED-TTL:PT1H
BEGIN:VTIMEZONE
TZID:America/New_York
BEGIN:DAYLIGHT
TZOFFSETFROM:-0500
TZOFFSETTO:-0400
TZNAME:EDT
DTSTART:20220313T070000
END:DAYLIGHT
BEGIN:STANDARD
TZOFFSETFROM:-0400
TZOFFSETTO:-0500
TZNAME:EST
DTSTART:20221106T060000
END:STANDARD
BEGIN:DAYLIGHT
TZOFFSETFROM:-0500
TZOFFSETTO:-0400
TZNAME:EDT
DTSTART:20230312T070000
END:DAYLIGHT
BEGIN:STANDARD
TZOFFSETFROM:-0400
TZOFFSETTO:-0500
TZNAME:EST
DTSTART:20231105T060000
END:STANDARD
BEGIN:DAYLIGHT
TZOFFSETFROM:-0500
TZOFFSETTO:-0400
TZNAME:EDT
DTSTART:20240310T070000
END:DAYLIGHT
BEGIN:STANDARD
TZOFFSETFROM:-0400
TZOFFSETTO:-0500
TZNAME:EST
DTSTART:20241103T060000
END:STANDARD
END:VTIMEZONE
BEGIN:VEVENT
DTSTART;TZID=America/New_York:20230301T190000
DTEND;TZID=America/New_York:20230301T200000
DTSTAMP:20260421T105446
CREATED:20230208T202420Z
LAST-MODIFIED:20230523T200626Z
UID:10000197-1677697200-1677700800@moonprep.com
SUMMARY:College Planning: High School Students
DESCRIPTION:College might seem like it is still far off\, but the first couple of high school years is the key to your success during the college planning process. By creating a plan for your standardized tests\, extracurricular activities\, and high school classes\, you can ensure that you are putting yourself in the best position possible when it’s time to apply to colleges. \nWith these video modules\, checklists\, and worksheets\, our course helps fully prepare you for college. \nSign up here. \nHow The Course Works  \nThis is not a live class. You’ll get a link to the video course. You must sign up via the link to gain access to the course.  \nModule 1: Timeline: Beginning The College Application  \n\nThe role of parents in the college admission process\nFinding your passions\nNecessary skills to learn \n\nModule 2: Building Your Resume \n\nScheduling classes with college in mind\nResearching high school activities\nBuilding a LinkedIn Profile\n\nModule 3: Creating A Strategic College List \n\nMaking a college list\nMilestones to hit to keep on track\nGoing on college visits\n\nModule 4: The Different Ways To Apply: How To Maximize Your Chances \n\nUnderstanding what the university values\nLearning about Early Action\, Early Decision and Restrictive Early Action\nSenior year checklist\n\nBonus: College list template checklists for early high school\, junior year and senior year\, and a 15-page LinkedIn Ultimate Guide.College list template checklists for early high school\, junior year and senior year\, and a 15-page LinkedIn Ultimate Guide. \nSign up here.
URL:https://moonprep.com/event/college-planning-high-school-students/2023-03-01/
CATEGORIES:Crash Course
ATTACH;FMTTYPE=image/png:https://moonprep.com/wp-content/uploads/2020/04/college-planning-high-school-students.png
END:VEVENT
BEGIN:VEVENT
DTSTART;TZID=America/New_York:20230303T190000
DTEND;TZID=America/New_York:20230303T200000
DTSTAMP:20260421T105446
CREATED:20230208T205038Z
LAST-MODIFIED:20230209T233004Z
UID:10000228-1677870000-1677873600@moonprep.com
SUMMARY:The Complete College Interview Guide
DESCRIPTION:Sign up here.  \nGetting an interview at your dream school is one of the final steps before you can be admitted. Making a strong impression can help strengthen your case and prove why you are the right student to be admitted. \nKnowing how to answer the interview questions can be a struggle for high school students. That is why Moon Prep combined the collective knowledge of the team to create this video course that has everything you need to know when answering interview questions to showcase your personality\, core values\, and experiences in a positive light. \nHow The Course Works\nThis is not a live class. You’ll get a link to the video course. You must sign up via the link to gain access to the course \nThis video course shows you the techniques you need to answer the most common interview questions. Throughout the video modules\, we will walk you through the entire interview process\, from getting an interview to writing a thank you note at the end. \nWith a selection of video modules\, examples of how to answer interview questions\, brainstorming worksheets\, and many advanced strategies\, our course is one of the most comprehensive available to help you prepare for your college interview. \nSign up here.  \nCourse Modules: \nModule 1: Why Do Colleges Give Interviews?  \n\nWhy you did (or didn’t) get an interview\nFour ways to get an interview\nAdvice on accepting the interview\n\nModule 2: When An Interview Matters \n\nTop factors for admission\nWho will my interviewer be? \nThe three common types of interviews\n\nModule 3: How To Prepare For A College Interview \n\nReusing supplemental essay material in your college interview\nAnswering “Why That School”\nTips for preparing for the interview\n\nModule 4: Common Interview Questions: Part 1 \n\nTopics you should avoid\nHow to turn a bad answer into a good answer\n10 common interview questions and how to answer them\n\nModule 5: Common Interview Questions: Part 2 \n\n10 common interview questions and how to answer them\n\nModule 6: Questions To Ask In the Interview \n\nTips for the end of the interview\nExamples of questions you can ask in interviews\n\nModule 7: General Interview Tips \n\nPicking the right outfit\nHandling a Skype interview\n3 specific nonverbal tips\nWhat to take to the interview\nSteps to take after the interview\n\nSign up here. 
URL:https://moonprep.com/event/the-complete-college-interview-guide/2023-03-03/
LOCATION:Virtual Webinar: Zoom
CATEGORIES:Crash Course
ATTACH;FMTTYPE=image/png:https://moonprep.com/wp-content/uploads/2020/04/the-complete-college-interview-guide.png
ORGANIZER;CN="Moon Prep":MAILTO:hello@moonprep.com
END:VEVENT
BEGIN:VEVENT
DTSTART;TZID=America/New_York:20230315T190000
DTEND;TZID=America/New_York:20230315T203000
DTSTAMP:20260421T105446
CREATED:20230208T205038Z
LAST-MODIFIED:20230209T233004Z
UID:10000229-1678906800-1678912200@moonprep.com
SUMMARY:The Complete College Interview Guide
DESCRIPTION:Sign up here.  \nGetting an interview at your dream school is one of the final steps before you can be admitted. Making a strong impression can help strengthen your case and prove why you are the right student to be admitted. \nKnowing how to answer the interview questions can be a struggle for high school students. That is why Moon Prep combined the collective knowledge of the team to create this video course that has everything you need to know when answering interview questions to showcase your personality\, core values\, and experiences in a positive light. \nHow The Course Works\nThis is not a live class. You’ll get a link to the video course. You must sign up via the link to gain access to the course \nThis video course shows you the techniques you need to answer the most common interview questions. Throughout the video modules\, we will walk you through the entire interview process\, from getting an interview to writing a thank you note at the end. \nWith a selection of video modules\, examples of how to answer interview questions\, brainstorming worksheets\, and many advanced strategies\, our course is one of the most comprehensive available to help you prepare for your college interview. \nSign up here.  \nCourse Modules: \nModule 1: Why Do Colleges Give Interviews?  \n\nWhy you did (or didn’t) get an interview\nFour ways to get an interview\nAdvice on accepting the interview\n\nModule 2: When An Interview Matters \n\nTop factors for admission\nWho will my interviewer be? \nThe three common types of interviews\n\nModule 3: How To Prepare For A College Interview \n\nReusing supplemental essay material in your college interview\nAnswering “Why That School”\nTips for preparing for the interview\n\nModule 4: Common Interview Questions: Part 1 \n\nTopics you should avoid\nHow to turn a bad answer into a good answer\n10 common interview questions and how to answer them\n\nModule 5: Common Interview Questions: Part 2 \n\n10 common interview questions and how to answer them\n\nModule 6: Questions To Ask In the Interview \n\nTips for the end of the interview\nExamples of questions you can ask in interviews\n\nModule 7: General Interview Tips \n\nPicking the right outfit\nHandling a Skype interview\n3 specific nonverbal tips\nWhat to take to the interview\nSteps to take after the interview\n\nSign up here. 
URL:https://moonprep.com/event/the-complete-college-interview-guide/2023-03-15/
LOCATION:Virtual Webinar: Zoom
CATEGORIES:Crash Course
ATTACH;FMTTYPE=image/png:https://moonprep.com/wp-content/uploads/2020/04/the-complete-college-interview-guide.png
ORGANIZER;CN="Moon Prep":MAILTO:hello@moonprep.com
END:VEVENT
END:VCALENDAR